BEGIN:VCALENDAR
VERSION:2.0
PRODID:-//Southern End Community Association [SECA] - ECPv6.15.11//NONSGML v1.0//EN
CALSCALE:GREGORIAN
METHOD:PUBLISH
X-ORIGINAL-URL:https://www.secarec.com
X-WR-CALDESC:Events for Southern End Community Association [SECA]
REFRESH-INTERVAL;VALUE=DURATION:PT1H
X-Robots-Tag:noindex
X-PUBLISHED-TTL:PT1H
BEGIN:VTIMEZONE
TZID:America/New_York
BEGIN:DAYLIGHT
TZOFFSETFROM:-0500
TZOFFSETTO:-0400
TZNAME:EDT
DTSTART:20250309T070000
END:DAYLIGHT
BEGIN:STANDARD
TZOFFSETFROM:-0400
TZOFFSETTO:-0500
TZNAME:EST
DTSTART:20251102T060000
END:STANDARD
BEGIN:DAYLIGHT
TZOFFSETFROM:-0500
TZOFFSETTO:-0400
TZNAME:EDT
DTSTART:20260308T070000
END:DAYLIGHT
BEGIN:STANDARD
TZOFFSETFROM:-0400
TZOFFSETTO:-0500
TZNAME:EST
DTSTART:20261101T060000
END:STANDARD
BEGIN:DAYLIGHT
TZOFFSETFROM:-0500
TZOFFSETTO:-0400
TZNAME:EDT
DTSTART:20270314T070000
END:DAYLIGHT
BEGIN:STANDARD
TZOFFSETFROM:-0400
TZOFFSETTO:-0500
TZNAME:EST
DTSTART:20271107T060000
END:STANDARD
BEGIN:DAYLIGHT
TZOFFSETFROM:-0500
TZOFFSETTO:-0400
TZNAME:EDT
DTSTART:20280312T070000
END:DAYLIGHT
BEGIN:STANDARD
TZOFFSETFROM:-0400
TZOFFSETTO:-0500
TZNAME:EST
DTSTART:20281105T060000
END:STANDARD
END:VTIMEZONE
BEGIN:VEVENT
DTSTART;VALUE=DATE:20261001
DTEND;VALUE=DATE:20261101
DTSTAMP:20260425T085332
CREATED:20251029T182132Z
LAST-MODIFIED:20260424T155456Z
UID:10013029-1790812800-1793491199@www.secarec.com
SUMMARY:SECA Building Rental - October
DESCRIPTION:Hourly: $70/hr\, minimum 2 hrs required\nFull Day: 8 hrs\, $500 \nYou will be charged a security deposit today\, to be returned to you pending damages to property. \nSecurity Deposit for Hourly Rental: $100\nSecurity Deposit for Full Day Rental: $250 \nSECA Center Building Rental\nThe SECA Center is 4000 sq. ft. with two floor levels and two rooms to accommodate your event. \nHold your wedding reception\, family reunion\, surprise party\, staff holiday party\, and more at our facility. Our max capacity for the building is 150 people. Bathroom on both floors\, Alcohol is permitted. \nUPPER LEVEL\nThe upper level  is over 1900 sq. ft. with built-in bar and countertop space. \nDance floor with raised DJ Platform.  Windows overlooking pond and SECA Property. 6′ long x 2’5″ wide tables and folding chairs are available to accommodate set up for 100 guests. Accessible\, same floor mens and womens bathrooms. Available: ice machine\, refrigeration\, stove with oven\, and limited food preparation area in kitchen. \nLOWER LEVEL\nThe lower level holds up to 30 guests with bar and kitchen access. Windows with pond views and direct access to outside SECA grounds.  8′ long tables are available with accommodating fold-up chairs. Perfect for small birthday party or meeting.  Accessible same floor mens and womens bathrooms.
URL:https://www.secarec.com/event/seca-building-rental-october/2026-10-01/
LOCATION:Private: SECA Building
END:VEVENT
BEGIN:VEVENT
DTSTART;VALUE=DATE:20261101
DTEND;VALUE=DATE:20261201
DTSTAMP:20260425T085332
CREATED:20251029T175453Z
LAST-MODIFIED:20260424T160239Z
UID:10012921-1793491200-1796083199@www.secarec.com
SUMMARY:Pavilion 1 Rental - November
DESCRIPTION:Pavilion 1 is closest to the softball field.
URL:https://www.secarec.com/event/pavilion-1-rental-november/2026-11-01/
LOCATION:SECA Pool
END:VEVENT
BEGIN:VEVENT
DTSTART;VALUE=DATE:20261101
DTEND;VALUE=DATE:20261201
DTSTAMP:20260425T085332
CREATED:20251029T181356Z
LAST-MODIFIED:20260424T160233Z
UID:10012963-1793491200-1796083199@www.secarec.com
SUMMARY:Pavilion 2 Rental - November
DESCRIPTION:Pavilion 2 is closest to the playground and hockey rink.
URL:https://www.secarec.com/event/pavilion-2-rental-november/2026-11-01/
LOCATION:SECA Pool
END:VEVENT
BEGIN:VEVENT
DTSTART;VALUE=DATE:20261101
DTEND;VALUE=DATE:20261201
DTSTAMP:20260425T085332
CREATED:20251029T182111Z
LAST-MODIFIED:20260424T160225Z
UID:10013024-1793491200-1796083199@www.secarec.com
SUMMARY:SECA Building Rental - November
DESCRIPTION:Hourly: $70/hr\, minimum 2 hrs required\nFull Day: 8 hrs\, $500 \nYou will be charged a security deposit today\, to be returned to you pending damages to property. \nSecurity Deposit for Hourly Rental: $100\nSecurity Deposit for Full Day Rental: $250 \nSECA Center Building Rental\nThe SECA Center is 4000 sq. ft. with two floor levels and two rooms to accommodate your event. \nHold your wedding reception\, family reunion\, surprise party\, staff holiday party\, and more at our facility. Our max capacity for the building is 150 people. Bathroom on both floors\, Alcohol is permitted. \nUPPER LEVEL\nThe upper level  is over 1900 sq. ft. with built-in bar and countertop space. \nDance floor with raised DJ Platform.  Windows overlooking pond and SECA Property. 6′ long x 2’5″ wide tables and folding chairs are available to accommodate set up for 100 guests. Accessible\, same floor mens and womens bathrooms. Available: ice machine\, refrigeration\, stove with oven\, and limited food preparation area in kitchen. \nLOWER LEVEL\nThe lower level holds up to 30 guests with bar and kitchen access. Windows with pond views and direct access to outside SECA grounds.  8′ long tables are available with accommodating fold-up chairs. Perfect for small birthday party or meeting.  Accessible same floor mens and womens bathrooms.
URL:https://www.secarec.com/event/seca-building-rental-november/2026-11-01/
LOCATION:Private: SECA Building
END:VEVENT
BEGIN:VEVENT
DTSTART;VALUE=DATE:20261201
DTEND;VALUE=DATE:20270101
DTSTAMP:20260425T085332
CREATED:20251029T175527Z
LAST-MODIFIED:20260424T160217Z
UID:10012927-1796083200-1798761599@www.secarec.com
SUMMARY:Pavilion 1 Rental - December
DESCRIPTION:Pavilion 1 is closest to the softball field.
URL:https://www.secarec.com/event/pavilion-1-rental-december/2026-12-01/
LOCATION:SECA Pool
END:VEVENT
BEGIN:VEVENT
DTSTART;VALUE=DATE:20261201
DTEND;VALUE=DATE:20270101
DTSTAMP:20260425T085332
CREATED:20251029T181235Z
LAST-MODIFIED:20260424T160209Z
UID:10012938-1796083200-1798761599@www.secarec.com
SUMMARY:Pavilion 2 Rental - December
DESCRIPTION:Pavilion 2 is closest to the playground and hockey rink.
URL:https://www.secarec.com/event/pavilion-2-rental-december/2026-12-01/
LOCATION:SECA Pool
END:VEVENT
BEGIN:VEVENT
DTSTART;VALUE=DATE:20261201
DTEND;VALUE=DATE:20270101
DTSTAMP:20260425T085332
CREATED:20251029T181816Z
LAST-MODIFIED:20260424T160204Z
UID:10012989-1796083200-1798761599@www.secarec.com
SUMMARY:SECA Building Rental - December
DESCRIPTION:Hourly: $70/hr\, minimum 2 hrs required\nFull Day: 8 hrs\, $500 \nYou will be charged a security deposit today\, to be returned to you pending damages to property. \nSecurity Deposit for Hourly Rental: $100\nSecurity Deposit for Full Day Rental: $250 \nSECA Center Building Rental\nThe SECA Center is 4000 sq. ft. with two floor levels and two rooms to accommodate your event. \nHold your wedding reception\, family reunion\, surprise party\, staff holiday party\, and more at our facility. Our max capacity for the building is 150 people. Bathroom on both floors\, Alcohol is permitted. \nUPPER LEVEL\nThe upper level  is over 1900 sq. ft. with built-in bar and countertop space. \nDance floor with raised DJ Platform.  Windows overlooking pond and SECA Property. 6′ long x 2’5″ wide tables and folding chairs are available to accommodate set up for 100 guests. Accessible\, same floor mens and womens bathrooms. Available: ice machine\, refrigeration\, stove with oven\, and limited food preparation area in kitchen. \nLOWER LEVEL\nThe lower level holds up to 30 guests with bar and kitchen access. Windows with pond views and direct access to outside SECA grounds.  8′ long tables are available with accommodating fold-up chairs. Perfect for small birthday party or meeting.  Accessible same floor mens and womens bathrooms.
URL:https://www.secarec.com/event/seca-building-rental-december/2026-12-01/
LOCATION:Private: SECA Building
END:VEVENT
BEGIN:VEVENT
DTSTART;VALUE=DATE:20270101
DTEND;VALUE=DATE:20270201
DTSTAMP:20260425T085332
CREATED:20251029T175138Z
LAST-MODIFIED:20260424T160145Z
UID:10012882-1798761600-1801439999@www.secarec.com
SUMMARY:Pavilion 1 Rental - January
DESCRIPTION:Pavilion 1 is closest to the softball field.
URL:https://www.secarec.com/event/pavilion-1-rental-january/2027-01-01/
LOCATION:SECA Pool
END:VEVENT
BEGIN:VEVENT
DTSTART;VALUE=DATE:20270101
DTEND;VALUE=DATE:20270201
DTSTAMP:20260425T085332
CREATED:20251029T181309Z
LAST-MODIFIED:20260424T160136Z
UID:10012948-1798761600-1801439999@www.secarec.com
SUMMARY:Pavilion 2 Rental - January
DESCRIPTION:Pavilion 2 is closest to the playground and hockey rink.
URL:https://www.secarec.com/event/pavilion-2-rental-january/2027-01-01/
LOCATION:SECA Pool
END:VEVENT
BEGIN:VEVENT
DTSTART;VALUE=DATE:20270101
DTEND;VALUE=DATE:20270201
DTSTAMP:20260425T085332
CREATED:20251029T181903Z
LAST-MODIFIED:20260424T160125Z
UID:10012999-1798761600-1801439999@www.secarec.com
SUMMARY:SECA Building Rental - January
DESCRIPTION:Hourly: $70/hr\, minimum 2 hrs required\nFull Day: 8 hrs\, $500 \nYou will be charged a security deposit today\, to be returned to you pending damages to property. \nSecurity Deposit for Hourly Rental: $100\nSecurity Deposit for Full Day Rental: $250 \nSECA Center Building Rental\nThe SECA Center is 4000 sq. ft. with two floor levels and two rooms to accommodate your event. \nHold your wedding reception\, family reunion\, surprise party\, staff holiday party\, and more at our facility. Our max capacity for the building is 150 people. Bathroom on both floors\, Alcohol is permitted. \nUPPER LEVEL\nThe upper level  is over 1900 sq. ft. with built-in bar and countertop space. \nDance floor with raised DJ Platform.  Windows overlooking pond and SECA Property. 6′ long x 2’5″ wide tables and folding chairs are available to accommodate set up for 100 guests. Accessible\, same floor mens and womens bathrooms. Available: ice machine\, refrigeration\, stove with oven\, and limited food preparation area in kitchen. \nLOWER LEVEL\nThe lower level holds up to 30 guests with bar and kitchen access. Windows with pond views and direct access to outside SECA grounds.  8′ long tables are available with accommodating fold-up chairs. Perfect for small birthday party or meeting.  Accessible same floor mens and womens bathrooms.
URL:https://www.secarec.com/event/seca-building-rental-january/2027-01-01/
LOCATION:Private: SECA Building
END:VEVENT
BEGIN:VEVENT
DTSTART;VALUE=DATE:20270201
DTEND;VALUE=DATE:20270301
DTSTAMP:20260425T085332
CREATED:20251029T175214Z
LAST-MODIFIED:20260424T155944Z
UID:10012892-1801440000-1803859199@www.secarec.com
SUMMARY:Pavilion 1 Rental - February
DESCRIPTION:Pavilion 1 is closest to the softball field.
URL:https://www.secarec.com/event/pavilion-1-rental-february/2027-02-01/
LOCATION:SECA Pool
END:VEVENT
BEGIN:VEVENT
DTSTART;VALUE=DATE:20270201
DTEND;VALUE=DATE:20270301
DTSTAMP:20260425T085332
CREATED:20251029T181251Z
LAST-MODIFIED:20260424T155936Z
UID:10012943-1801440000-1803859199@www.secarec.com
SUMMARY:Pavilion 2 Rental - February
DESCRIPTION:Pavilion 2 is closest to the playground and hockey rink.
URL:https://www.secarec.com/event/pavilion-2-rental-february/2027-02-01/
LOCATION:SECA Pool
END:VEVENT
BEGIN:VEVENT
DTSTART;VALUE=DATE:20270201
DTEND;VALUE=DATE:20270301
DTSTAMP:20260425T085332
CREATED:20251029T181840Z
LAST-MODIFIED:20260424T155929Z
UID:10012994-1801440000-1803859199@www.secarec.com
SUMMARY:SECA Building Rental - February
DESCRIPTION:Hourly: $70/hr\, minimum 2 hrs required\nFull Day: 8 hrs\, $500 \nYou will be charged a security deposit today\, to be returned to you pending damages to property. \nSecurity Deposit for Hourly Rental: $100\nSecurity Deposit for Full Day Rental: $250 \nSECA Center Building Rental\nThe SECA Center is 4000 sq. ft. with two floor levels and two rooms to accommodate your event. \nHold your wedding reception\, family reunion\, surprise party\, staff holiday party\, and more at our facility. Our max capacity for the building is 150 people. Bathroom on both floors\, Alcohol is permitted. \nUPPER LEVEL\nThe upper level  is over 1900 sq. ft. with built-in bar and countertop space. \nDance floor with raised DJ Platform.  Windows overlooking pond and SECA Property. 6′ long x 2’5″ wide tables and folding chairs are available to accommodate set up for 100 guests. Accessible\, same floor mens and womens bathrooms. Available: ice machine\, refrigeration\, stove with oven\, and limited food preparation area in kitchen. \nLOWER LEVEL\nThe lower level holds up to 30 guests with bar and kitchen access. Windows with pond views and direct access to outside SECA grounds.  8′ long tables are available with accommodating fold-up chairs. Perfect for small birthday party or meeting.  Accessible same floor mens and womens bathrooms.
URL:https://www.secarec.com/event/seca-building-rental-february/2027-02-01/
LOCATION:Private: SECA Building
END:VEVENT
BEGIN:VEVENT
DTSTART;VALUE=DATE:20270301
DTEND;VALUE=DATE:20270401
DTSTAMP:20260425T085332
CREATED:20251029T175236Z
LAST-MODIFIED:20260424T155923Z
UID:10012897-1803859200-1806537599@www.secarec.com
SUMMARY:Pavilion 1 Rental - March
DESCRIPTION:Pavilion 1 is closest to the softball field.
URL:https://www.secarec.com/event/pavilion-1-rental-march/2027-03-01/
LOCATION:SECA Pool
END:VEVENT
BEGIN:VEVENT
DTSTART;VALUE=DATE:20270301
DTEND;VALUE=DATE:20270401
DTSTAMP:20260425T085332
CREATED:20251029T181323Z
LAST-MODIFIED:20260424T155916Z
UID:10012953-1803859200-1806537599@www.secarec.com
SUMMARY:Pavilion 2 Rental - March
DESCRIPTION:Pavilion 2 is closest to the playground and hockey rink.
URL:https://www.secarec.com/event/pavilion-2-rental-march/2027-03-01/
LOCATION:SECA Pool
END:VEVENT
BEGIN:VEVENT
DTSTART;VALUE=DATE:20270301
DTEND;VALUE=DATE:20270401
DTSTAMP:20260425T085332
CREATED:20251029T182027Z
LAST-MODIFIED:20260424T155908Z
UID:10013014-1803859200-1806537599@www.secarec.com
SUMMARY:SECA Building Rental - March
DESCRIPTION:Hourly: $70/hr\, minimum 2 hrs required\nFull Day: 8 hrs\, $500 \nYou will be charged a security deposit today\, to be returned to you pending damages to property. \nSecurity Deposit for Hourly Rental: $100\nSecurity Deposit for Full Day Rental: $250 \nSECA Center Building Rental\nThe SECA Center is 4000 sq. ft. with two floor levels and two rooms to accommodate your event. \nHold your wedding reception\, family reunion\, surprise party\, staff holiday party\, and more at our facility. Our max capacity for the building is 150 people. Bathroom on both floors\, Alcohol is permitted. \nUPPER LEVEL\nThe upper level  is over 1900 sq. ft. with built-in bar and countertop space. \nDance floor with raised DJ Platform.  Windows overlooking pond and SECA Property. 6′ long x 2’5″ wide tables and folding chairs are available to accommodate set up for 100 guests. Accessible\, same floor mens and womens bathrooms. Available: ice machine\, refrigeration\, stove with oven\, and limited food preparation area in kitchen. \nLOWER LEVEL\nThe lower level holds up to 30 guests with bar and kitchen access. Windows with pond views and direct access to outside SECA grounds.  8′ long tables are available with accommodating fold-up chairs. Perfect for small birthday party or meeting.  Accessible same floor mens and womens bathrooms.
URL:https://www.secarec.com/event/seca-building-rental-march/2027-03-01/
LOCATION:Private: SECA Building
END:VEVENT
BEGIN:VEVENT
DTSTART;VALUE=DATE:20270401
DTEND;VALUE=DATE:20270501
DTSTAMP:20260425T085332
CREATED:20251029T175311Z
LAST-MODIFIED:20260424T155857Z
UID:10012902-1806537600-1809129599@www.secarec.com
SUMMARY:Pavilion 1 Rental - April
DESCRIPTION:Pavilion 1 is closest to the softball field.
URL:https://www.secarec.com/event/pavilion-1-rental-april/2027-04-01/
LOCATION:SECA Pool
END:VEVENT
BEGIN:VEVENT
DTSTART;VALUE=DATE:20270401
DTEND;VALUE=DATE:20270501
DTSTAMP:20260425T085332
CREATED:20251029T181219Z
LAST-MODIFIED:20260424T155851Z
UID:10012933-1806537600-1809129599@www.secarec.com
SUMMARY:Pavilion 2 Rental - April
DESCRIPTION:Pavilion 2 is closest to the playground and hockey rink.
URL:https://www.secarec.com/event/pavilion-2-rental-april/2027-04-01/
LOCATION:SECA Pool
END:VEVENT
BEGIN:VEVENT
DTSTART;VALUE=DATE:20270401
DTEND;VALUE=DATE:20270501
DTSTAMP:20260425T085332
CREATED:20251029T181726Z
LAST-MODIFIED:20260424T155842Z
UID:10012979-1806537600-1809129599@www.secarec.com
SUMMARY:SECA Building Rental - April
DESCRIPTION:Hourly: $70/hr\, minimum 2 hrs required\nFull Day: 8 hrs\, $500 \nYou will be charged a security deposit today\, to be returned to you pending damages to property. \nSecurity Deposit for Hourly Rental: $100\nSecurity Deposit for Full Day Rental: $250 \nSECA Center Building Rental\nThe SECA Center is 4000 sq. ft. with two floor levels and two rooms to accommodate your event. \nHold your wedding reception\, family reunion\, surprise party\, staff holiday party\, and more at our facility. Our max capacity for the building is 150 people. Bathroom on both floors\, Alcohol is permitted. \nUPPER LEVEL\nThe upper level  is over 1900 sq. ft. with built-in bar and countertop space. \nDance floor with raised DJ Platform.  Windows overlooking pond and SECA Property. 6′ long x 2’5″ wide tables and folding chairs are available to accommodate set up for 100 guests. Accessible\, same floor mens and womens bathrooms. Available: ice machine\, refrigeration\, stove with oven\, and limited food preparation area in kitchen. \nLOWER LEVEL\nThe lower level holds up to 30 guests with bar and kitchen access. Windows with pond views and direct access to outside SECA grounds.  8′ long tables are available with accommodating fold-up chairs. Perfect for small birthday party or meeting.  Accessible same floor mens and womens bathrooms.
URL:https://www.secarec.com/event/seca-building-rental-april/2027-04-01/
LOCATION:Private: SECA Building
END:VEVENT
BEGIN:VEVENT
DTSTART;VALUE=DATE:20270501
DTEND;VALUE=DATE:20270601
DTSTAMP:20260425T085332
CREATED:20251029T175330Z
LAST-MODIFIED:20260424T155835Z
UID:10012907-1809129600-1811807999@www.secarec.com
SUMMARY:Pavilion 1 Rental - May
DESCRIPTION:Pavilion 1 is closest to the softball field.
URL:https://www.secarec.com/event/pavilion-1-rental-may/2027-05-01/
LOCATION:SECA Pool
END:VEVENT
BEGIN:VEVENT
DTSTART;VALUE=DATE:20270501
DTEND;VALUE=DATE:20270601
DTSTAMP:20260425T085332
CREATED:20251029T181338Z
LAST-MODIFIED:20260424T155829Z
UID:10012958-1809129600-1811807999@www.secarec.com
SUMMARY:Pavilion 2 Rental - May
DESCRIPTION:Pavilion 2 is closest to the playground and hockey rink.
URL:https://www.secarec.com/event/pavilion-2-rental-may/2027-05-01/
LOCATION:SECA Pool
END:VEVENT
BEGIN:VEVENT
DTSTART;VALUE=DATE:20270501
DTEND;VALUE=DATE:20270601
DTSTAMP:20260425T085332
CREATED:20251029T182049Z
LAST-MODIFIED:20260424T155821Z
UID:10013019-1809129600-1811807999@www.secarec.com
SUMMARY:SECA Building Rental - May
DESCRIPTION:Hourly: $70/hr\, minimum 2 hrs required\nFull Day: 8 hrs\, $500 \nYou will be charged a security deposit today\, to be returned to you pending damages to property. \nSecurity Deposit for Hourly Rental: $100\nSecurity Deposit for Full Day Rental: $250 \nSECA Center Building Rental\nThe SECA Center is 4000 sq. ft. with two floor levels and two rooms to accommodate your event. \nHold your wedding reception\, family reunion\, surprise party\, staff holiday party\, and more at our facility. Our max capacity for the building is 150 people. Bathroom on both floors\, Alcohol is permitted. \nUPPER LEVEL\nThe upper level  is over 1900 sq. ft. with built-in bar and countertop space. \nDance floor with raised DJ Platform.  Windows overlooking pond and SECA Property. 6′ long x 2’5″ wide tables and folding chairs are available to accommodate set up for 100 guests. Accessible\, same floor mens and womens bathrooms. Available: ice machine\, refrigeration\, stove with oven\, and limited food preparation area in kitchen. \nLOWER LEVEL\nThe lower level holds up to 30 guests with bar and kitchen access. Windows with pond views and direct access to outside SECA grounds.  8′ long tables are available with accommodating fold-up chairs. Perfect for small birthday party or meeting.  Accessible same floor mens and womens bathrooms.
URL:https://www.secarec.com/event/seca-building-rental-may/2027-05-01/
LOCATION:Private: SECA Building
END:VEVENT
BEGIN:VEVENT
DTSTART;VALUE=DATE:20270518
DTEND;VALUE=DATE:20270601
DTSTAMP:20260425T085332
CREATED:20251029T182858Z
LAST-MODIFIED:20260424T155814Z
UID:10013091-1810598400-1811807999@www.secarec.com
SUMMARY:Pool Rental - 12-3pm - May
DESCRIPTION:Pool rentals start Memorial Day weekend. \nRegular Party – 3hrs\n\n1-20 Guests — $160\n21-40 Guests — $200\n41-60 Guests — $325\nOver 60 Guests — $325 + $5/per guest over 60
URL:https://www.secarec.com/event/pool-rental-12-3pm-may/2027-05-18/
LOCATION:SECA Pool
END:VEVENT
BEGIN:VEVENT
DTSTART;VALUE=DATE:20270518
DTEND;VALUE=DATE:20270601
DTSTAMP:20260425T085332
CREATED:20251029T195946Z
LAST-MODIFIED:20260424T155805Z
UID:10013094-1810598400-1811807999@www.secarec.com
SUMMARY:Pool Rental - 4-7pm - May
DESCRIPTION:Pool rentals start Memorial Day weekend. \nRegular Party – 3hrs\n\n1-20 Guests — $160\n21-40 Guests — $200\n41-60 Guests — $325\nOver 60 Guests — $325 + $5/per guest over 60
URL:https://www.secarec.com/event/pool-rental-4-7pm-may/2027-05-18/
LOCATION:SECA Pool
END:VEVENT
BEGIN:VEVENT
DTSTART;VALUE=DATE:20270518
DTEND;VALUE=DATE:20270601
DTSTAMP:20260425T085332
CREATED:20251029T200125Z
LAST-MODIFIED:20260424T155757Z
UID:10013097-1810598400-1811807999@www.secarec.com
SUMMARY:Pool Rental - Private - May
DESCRIPTION:Pool rentals start Memorial Day weekend. \nPrivate Party – 2hrs\n\n1-50 Guests — $375\n21-75 Guests — $470\n76-100 Guests — $550\n101-125 Guests — $650\nOver 125 Guests — $650 + $5/per guest over 125\n\nPrivate Party – 3hrs\n\n1-50 Guests — $475\n21-75 Guests — $570\n76-100 Guests — $650\n101-125 Guests — $750\nOver 125 Guests — $750 + $5/per guest over 125
URL:https://www.secarec.com/event/pool-rental-private-may/2027-05-18/
LOCATION:SECA Pool
END:VEVENT
BEGIN:VEVENT
DTSTART;VALUE=DATE:20270601
DTEND;VALUE=DATE:20270701
DTSTAMP:20260425T085332
CREATED:20251016T170550Z
LAST-MODIFIED:20260424T160002Z
UID:10012713-1811808000-1814399999@www.secarec.com
SUMMARY:Pavilion 1 Rental - June
DESCRIPTION:Pavilion 1 is closest to the softball field.
URL:https://www.secarec.com/event/pavilion-1-rental-june/2027-06-01/
LOCATION:SECA Pool
END:VEVENT
BEGIN:VEVENT
DTSTART;VALUE=DATE:20270601
DTEND;VALUE=DATE:20270701
DTSTAMP:20260425T085332
CREATED:20251016T172532Z
LAST-MODIFIED:20260424T155749Z
UID:10012753-1811808000-1814399999@www.secarec.com
SUMMARY:Pool Rental - 12-3pm - June
DESCRIPTION:Regular Party – 3hrs\n\n1-20 Guests — $160\n21-40 Guests — $200\n41-60 Guests — $325\nOver 60 Guests — $325 + $5/per guest over 60
URL:https://www.secarec.com/event/pool-rental-october/2027-06-01/
LOCATION:SECA Pool
END:VEVENT
BEGIN:VEVENT
DTSTART;VALUE=DATE:20270601
DTEND;VALUE=DATE:20270701
DTSTAMP:20260425T085332
CREATED:20251027T202950Z
LAST-MODIFIED:20260424T155741Z
UID:10012723-1811808000-1814399999@www.secarec.com
SUMMARY:Pavilion 2 Rental - June
DESCRIPTION:Pavilion 2 is closest to the playground and hockey rink.
URL:https://www.secarec.com/event/pavilion-1-rental-june-2/2027-06-01/
LOCATION:SECA Pool
END:VEVENT
BEGIN:VEVENT
DTSTART;VALUE=DATE:20270601
DTEND;VALUE=DATE:20270701
DTSTAMP:20260425T085332
CREATED:20251028T193917Z
LAST-MODIFIED:20260424T155732Z
UID:10012763-1811808000-1814399999@www.secarec.com
SUMMARY:Pool Rental - 4-7pm - June
DESCRIPTION:Regular Party – 3hrs\n\n1-20 Guests — $160\n21-40 Guests — $200\n41-60 Guests — $325\nOver 60 Guests — $325 + $5/per guest over 60
URL:https://www.secarec.com/event/pool-rental-4-7pm-june/2027-06-01/
LOCATION:SECA Pool
END:VEVENT
BEGIN:VEVENT
DTSTART;VALUE=DATE:20270601
DTEND;VALUE=DATE:20270701
DTSTAMP:20260425T085332
CREATED:20251028T194124Z
LAST-MODIFIED:20260424T155723Z
UID:10012768-1811808000-1814399999@www.secarec.com
SUMMARY:Pool Rental - Private - June
DESCRIPTION:Private Party – 2hrs\n\n1-50 Guests — $375\n21-75 Guests — $470\n76-100 Guests — $550\n101-125 Guests — $650\nOver 125 Guests — $650 + $5/per guest over 125\n\nPrivate Party – 3hrs\n\n1-50 Guests — $475\n21-75 Guests — $570\n76-100 Guests — $650\n101-125 Guests — $750\nOver 125 Guests — $750 + $5/per guest over 125
URL:https://www.secarec.com/event/pool-rental-private-june/2027-06-01/
LOCATION:SECA Pool
END:VEVENT
END:VCALENDAR