BEGIN:VCALENDAR
VERSION:2.0
PRODID:-//Southern End Community Association [SECA] - ECPv6.15.11//NONSGML v1.0//EN
CALSCALE:GREGORIAN
METHOD:PUBLISH
X-WR-CALNAME:Southern End Community Association [SECA]
X-ORIGINAL-URL:https://www.secarec.com
X-WR-CALDESC:Events for Southern End Community Association [SECA]
REFRESH-INTERVAL;VALUE=DURATION:PT1H
X-Robots-Tag:noindex
X-PUBLISHED-TTL:PT1H
BEGIN:VTIMEZONE
TZID:America/New_York
BEGIN:DAYLIGHT
TZOFFSETFROM:-0500
TZOFFSETTO:-0400
TZNAME:EDT
DTSTART:20240310T070000
END:DAYLIGHT
BEGIN:STANDARD
TZOFFSETFROM:-0400
TZOFFSETTO:-0500
TZNAME:EST
DTSTART:20241103T060000
END:STANDARD
BEGIN:DAYLIGHT
TZOFFSETFROM:-0500
TZOFFSETTO:-0400
TZNAME:EDT
DTSTART:20250309T070000
END:DAYLIGHT
BEGIN:STANDARD
TZOFFSETFROM:-0400
TZOFFSETTO:-0500
TZNAME:EST
DTSTART:20251102T060000
END:STANDARD
BEGIN:DAYLIGHT
TZOFFSETFROM:-0500
TZOFFSETTO:-0400
TZNAME:EDT
DTSTART:20260308T070000
END:DAYLIGHT
BEGIN:STANDARD
TZOFFSETFROM:-0400
TZOFFSETTO:-0500
TZNAME:EST
DTSTART:20261101T060000
END:STANDARD
BEGIN:DAYLIGHT
TZOFFSETFROM:-0500
TZOFFSETTO:-0400
TZNAME:EDT
DTSTART:20270314T070000
END:DAYLIGHT
BEGIN:STANDARD
TZOFFSETFROM:-0400
TZOFFSETTO:-0500
TZNAME:EST
DTSTART:20271107T060000
END:STANDARD
END:VTIMEZONE
BEGIN:VEVENT
DTSTART;VALUE=DATE:20251205
DTEND;VALUE=DATE:20260903
DTSTAMP:20260425T085553
CREATED:20251003T133404Z
LAST-MODIFIED:20260424T160154Z
UID:10001867-1764892800-1788393599@www.secarec.com
SUMMARY:Pool Pass Registration 2026
DESCRIPTION:  \n\n\n\nREGULAR Season Membership Rates\n\n\n\nAvailable Now\n\n\nNo. of Family Members*\nRegular Season Rate\n\n\n1\n$221\n\n\n2\n$319\n\n\n3\n$386\n\n\n4\n$448\n\n\n5**\n$494\n\n\nSenior Citizen (over 60)\n$142\n\n\nSenior Citizen Couple\n$233\n\n\n\n**Additional $40 fee per individual over 5 family members
URL:https://www.secarec.com/event/pool-pass-registration-2026/
LOCATION:SECA Pool
ATTACH;FMTTYPE=image/png:https://www.secarec.com/app/uploads/2025/10/Summer-fun-pool-pass-promotion.png
END:VEVENT
BEGIN:VEVENT
DTSTART;VALUE=DATE:20260401
DTEND;VALUE=DATE:20260501
DTSTAMP:20260425T085553
CREATED:20251029T175311Z
LAST-MODIFIED:20260424T155857Z
UID:10012901-1775001600-1777593599@www.secarec.com
SUMMARY:Pavilion 1 Rental - April
DESCRIPTION:Pavilion 1 is closest to the softball field.
URL:https://www.secarec.com/event/pavilion-1-rental-april/2026-04-01/
LOCATION:SECA Pool
END:VEVENT
BEGIN:VEVENT
DTSTART;VALUE=DATE:20260401
DTEND;VALUE=DATE:20260501
DTSTAMP:20260425T085553
CREATED:20251029T181219Z
LAST-MODIFIED:20260424T155851Z
UID:10012932-1775001600-1777593599@www.secarec.com
SUMMARY:Pavilion 2 Rental - April
DESCRIPTION:Pavilion 2 is closest to the playground and hockey rink.
URL:https://www.secarec.com/event/pavilion-2-rental-april/2026-04-01/
LOCATION:SECA Pool
END:VEVENT
BEGIN:VEVENT
DTSTART;VALUE=DATE:20260501
DTEND;VALUE=DATE:20260601
DTSTAMP:20260425T085553
CREATED:20251029T175330Z
LAST-MODIFIED:20260424T155835Z
UID:10012906-1777593600-1780271999@www.secarec.com
SUMMARY:Pavilion 1 Rental - May
DESCRIPTION:Pavilion 1 is closest to the softball field.
URL:https://www.secarec.com/event/pavilion-1-rental-may/2026-05-01/
LOCATION:SECA Pool
END:VEVENT
BEGIN:VEVENT
DTSTART;VALUE=DATE:20260501
DTEND;VALUE=DATE:20260601
DTSTAMP:20260425T085553
CREATED:20251029T181338Z
LAST-MODIFIED:20260424T155829Z
UID:10012957-1777593600-1780271999@www.secarec.com
SUMMARY:Pavilion 2 Rental - May
DESCRIPTION:Pavilion 2 is closest to the playground and hockey rink.
URL:https://www.secarec.com/event/pavilion-2-rental-may/2026-05-01/
LOCATION:SECA Pool
END:VEVENT
BEGIN:VEVENT
DTSTART;VALUE=DATE:20260518
DTEND;VALUE=DATE:20260601
DTSTAMP:20260425T085553
CREATED:20251029T182858Z
LAST-MODIFIED:20260424T155814Z
UID:10013084-1779062400-1780271999@www.secarec.com
SUMMARY:Pool Rental - 12-3pm - May
DESCRIPTION:Pool rentals start Memorial Day weekend. \nRegular Party – 3hrs\n\n1-20 Guests — $160\n21-40 Guests — $200\n41-60 Guests — $325\nOver 60 Guests — $325 + $5/per guest over 60
URL:https://www.secarec.com/event/pool-rental-12-3pm-may/2026-05-18/
LOCATION:SECA Pool
END:VEVENT
BEGIN:VEVENT
DTSTART;VALUE=DATE:20260518
DTEND;VALUE=DATE:20260601
DTSTAMP:20260425T085553
CREATED:20251029T195946Z
LAST-MODIFIED:20260424T155805Z
UID:10013074-1779062400-1780271999@www.secarec.com
SUMMARY:Pool Rental - 4-7pm - May
DESCRIPTION:Pool rentals start Memorial Day weekend. \nRegular Party – 3hrs\n\n1-20 Guests — $160\n21-40 Guests — $200\n41-60 Guests — $325\nOver 60 Guests — $325 + $5/per guest over 60
URL:https://www.secarec.com/event/pool-rental-4-7pm-may/2026-05-18/
LOCATION:SECA Pool
END:VEVENT
BEGIN:VEVENT
DTSTART;VALUE=DATE:20260518
DTEND;VALUE=DATE:20260601
DTSTAMP:20260425T085553
CREATED:20251029T200125Z
LAST-MODIFIED:20260424T155757Z
UID:10013079-1779062400-1780271999@www.secarec.com
SUMMARY:Pool Rental - Private - May
DESCRIPTION:Pool rentals start Memorial Day weekend. \nPrivate Party – 2hrs\n\n1-50 Guests — $375\n21-75 Guests — $470\n76-100 Guests — $550\n101-125 Guests — $650\nOver 125 Guests — $650 + $5/per guest over 125\n\nPrivate Party – 3hrs\n\n1-50 Guests — $475\n21-75 Guests — $570\n76-100 Guests — $650\n101-125 Guests — $750\nOver 125 Guests — $750 + $5/per guest over 125
URL:https://www.secarec.com/event/pool-rental-private-may/2026-05-18/
LOCATION:SECA Pool
END:VEVENT
BEGIN:VEVENT
DTSTART;VALUE=DATE:20260601
DTEND;VALUE=DATE:20260701
DTSTAMP:20260425T085553
CREATED:20251016T170550Z
LAST-MODIFIED:20260424T160002Z
UID:10012712-1780272000-1782863999@www.secarec.com
SUMMARY:Pavilion 1 Rental - June
DESCRIPTION:Pavilion 1 is closest to the softball field.
URL:https://www.secarec.com/event/pavilion-1-rental-june/2026-06-01/
LOCATION:SECA Pool
END:VEVENT
BEGIN:VEVENT
DTSTART;VALUE=DATE:20260601
DTEND;VALUE=DATE:20260701
DTSTAMP:20260425T085553
CREATED:20251016T172532Z
LAST-MODIFIED:20260424T155749Z
UID:10012752-1780272000-1782863999@www.secarec.com
SUMMARY:Pool Rental - 12-3pm - June
DESCRIPTION:Regular Party – 3hrs\n\n1-20 Guests — $160\n21-40 Guests — $200\n41-60 Guests — $325\nOver 60 Guests — $325 + $5/per guest over 60
URL:https://www.secarec.com/event/pool-rental-october/2026-06-01/
LOCATION:SECA Pool
END:VEVENT
BEGIN:VEVENT
DTSTART;VALUE=DATE:20260601
DTEND;VALUE=DATE:20260701
DTSTAMP:20260425T085553
CREATED:20251027T202950Z
LAST-MODIFIED:20260424T155741Z
UID:10012722-1780272000-1782863999@www.secarec.com
SUMMARY:Pavilion 2 Rental - June
DESCRIPTION:Pavilion 2 is closest to the playground and hockey rink.
URL:https://www.secarec.com/event/pavilion-1-rental-june-2/2026-06-01/
LOCATION:SECA Pool
END:VEVENT
BEGIN:VEVENT
DTSTART;VALUE=DATE:20260601
DTEND;VALUE=DATE:20260701
DTSTAMP:20260425T085553
CREATED:20251028T193917Z
LAST-MODIFIED:20260424T155732Z
UID:10012762-1780272000-1782863999@www.secarec.com
SUMMARY:Pool Rental - 4-7pm - June
DESCRIPTION:Regular Party – 3hrs\n\n1-20 Guests — $160\n21-40 Guests — $200\n41-60 Guests — $325\nOver 60 Guests — $325 + $5/per guest over 60
URL:https://www.secarec.com/event/pool-rental-4-7pm-june/2026-06-01/
LOCATION:SECA Pool
END:VEVENT
BEGIN:VEVENT
DTSTART;VALUE=DATE:20260601
DTEND;VALUE=DATE:20260701
DTSTAMP:20260425T085553
CREATED:20251028T194124Z
LAST-MODIFIED:20260424T155723Z
UID:10012767-1780272000-1782863999@www.secarec.com
SUMMARY:Pool Rental - Private - June
DESCRIPTION:Private Party – 2hrs\n\n1-50 Guests — $375\n21-75 Guests — $470\n76-100 Guests — $550\n101-125 Guests — $650\nOver 125 Guests — $650 + $5/per guest over 125\n\nPrivate Party – 3hrs\n\n1-50 Guests — $475\n21-75 Guests — $570\n76-100 Guests — $650\n101-125 Guests — $750\nOver 125 Guests — $750 + $5/per guest over 125
URL:https://www.secarec.com/event/pool-rental-private-june/2026-06-01/
LOCATION:SECA Pool
END:VEVENT
BEGIN:VEVENT
DTSTART;VALUE=DATE:20260615
DTEND;VALUE=DATE:20260626
DTSTAMP:20260425T085553
CREATED:20260401T051127Z
LAST-MODIFIED:20260424T155439Z
UID:10007071-1781481600-1782431999@www.secarec.com
SUMMARY:Youth Swim Lessons 2026 - Session 1
DESCRIPTION:Youth Swim Lessons\nThe goal of the SECA Swim Lesson Program is to create a safe\, controlled swimming environment thought education and training. Thousands of students have been trained to swim and enjoy the water through our program. We strive to maintain discipline\, order\, and most of all\, a positive attitude with your children. Classes are taught by SECA Shark Swim Team Coaches and SECA Lifeguards. \nClasses held in two-week sessions Monday – Thursday\nFriday is a make-up day \nClass Size and Instructor Ratio\n3-5 year-olds – 6 students (3:1 ratio)\n6-12 year-old – 8 students (4:1 ratio) \n  \n\n\n\nLesson Description Ages 3-5\nLesson Description Ages 6-12\n\n\nSand Sharks (Beginner) – Develop safe pool behavior and become familiar with the water. Swimmers will work on the basic skills of kicking\, paddling\, and going underwater.\nTiger Sharks (Beginner) – Children become acquainted with the water\, use flotation devices and learn to float and paddle.\n\n\nBlue Sharks (Intermediate) – Swimmers will learn to independently move through water. Swimmers will be taught to float and paddle without a float belt.\nWhale Sharks (Intermediate) – Swimmers build upon basic skills\, float\, and tread water. Will swim front/back crawl and sidestroke. Swimmers will begin to gain confidence in deeper water.\n\n\nMako Sharks (Advanced) – Swimmers will improve stroke skills\, build endurance and learn to tread water. Swimmers will also learn sitting and kneeling dives.\nGreat White Sharks (Advanced) – Swimmers further refine and build endurance in front crawl using rotary breathing\, backstroke\, elementary backstroke\, sidestroke\, and diving skills. Swimmers will be introduced to breaststroke\, butterfly\, and basic water rescue skills.
URL:https://www.secarec.com/event/youth-swim-lessons/
LOCATION:SECA Pool
END:VEVENT
BEGIN:VEVENT
DTSTART;VALUE=DATE:20260629
DTEND;VALUE=DATE:20260710
DTSTAMP:20260425T085553
CREATED:20260401T051607Z
LAST-MODIFIED:20260424T155433Z
UID:10012832-1782691200-1783641599@www.secarec.com
SUMMARY:Youth Swim Lessons 2026 - Session 2
DESCRIPTION:Youth Swim Lessons\nThe goal of the SECA Swim Lesson Program is to create a safe\, controlled swimming environment thought education and training. Thousands of students have been trained to swim and enjoy the water through our program. We strive to maintain discipline\, order\, and most of all\, a positive attitude with your children. Classes are taught by SECA Shark Swim Team Coaches and SECA Lifeguards. \nClasses held in two-week sessions Monday – Thursday\nFriday is a make-up day \nClass Size and Instructor Ratio\n3-5 year-olds – 6 students (3:1 ratio)\n6-12 year-old – 8 students (4:1 ratio) \n  \n\n\n\nLesson Description Ages 3-5\nLesson Description Ages 6-12\n\n\nSand Sharks (Beginner) – Develop safe pool behavior and become familiar with the water. Swimmers will work on the basic skills of kicking\, paddling\, and going underwater.\nTiger Sharks (Beginner) – Children become acquainted with the water\, use flotation devices and learn to float and paddle.\n\n\nBlue Sharks (Intermediate) – Swimmers will learn to independently move through water. Swimmers will be taught to float and paddle without a float belt.\nWhale Sharks (Intermediate) – Swimmers build upon basic skills\, float\, and tread water. Will swim front/back crawl and sidestroke. Swimmers will begin to gain confidence in deeper water.\n\n\nMako Sharks (Advanced) – Swimmers will improve stroke skills\, build endurance and learn to tread water. Swimmers will also learn sitting and kneeling dives.\nGreat White Sharks (Advanced) – Swimmers further refine and build endurance in front crawl using rotary breathing\, backstroke\, elementary backstroke\, sidestroke\, and diving skills. Swimmers will be introduced to breaststroke\, butterfly\, and basic water rescue skills.
URL:https://www.secarec.com/event/youth-swim-lessons-2026-session-2/
LOCATION:SECA Pool
END:VEVENT
BEGIN:VEVENT
DTSTART;VALUE=DATE:20260701
DTEND;VALUE=DATE:20260801
DTSTAMP:20260425T085553
CREATED:20251016T171524Z
LAST-MODIFIED:20260424T155611Z
UID:10012727-1782864000-1785542399@www.secarec.com
SUMMARY:Pavilion 2 Rental - July
DESCRIPTION:Pavilion 2 is closest to the playground and hockey rink.
URL:https://www.secarec.com/event/pavilion-2-rental-june/2026-07-01/
LOCATION:SECA Pool
END:VEVENT
BEGIN:VEVENT
DTSTART;VALUE=DATE:20260701
DTEND;VALUE=DATE:20260801
DTSTAMP:20260425T085553
CREATED:20251027T203418Z
LAST-MODIFIED:20260424T155603Z
UID:10012732-1782864000-1785542399@www.secarec.com
SUMMARY:Pavilion 1 Rental - July
DESCRIPTION:Pavilion 1 is closest to the softball field.
URL:https://www.secarec.com/event/pavilion-1-rental-july/2026-07-01/
LOCATION:SECA Pool
END:VEVENT
BEGIN:VEVENT
DTSTART;VALUE=DATE:20260701
DTEND;VALUE=DATE:20260801
DTSTAMP:20260425T085553
CREATED:20251028T194635Z
LAST-MODIFIED:20260424T155421Z
UID:10012802-1782864000-1785542399@www.secarec.com
SUMMARY:Pool Rental - 12-3pm - July
DESCRIPTION:Regular Party – 3hrs\n\n1-20 Guests — $160\n21-40 Guests — $200\n41-60 Guests — $325\nOver 60 Guests — $325 + $5/per guest over 60
URL:https://www.secarec.com/event/pool-rental-12-3pm-july/2026-07-01/
LOCATION:SECA Pool
END:VEVENT
BEGIN:VEVENT
DTSTART;VALUE=DATE:20260701
DTEND;VALUE=DATE:20260801
DTSTAMP:20260425T085553
CREATED:20251028T194804Z
LAST-MODIFIED:20260424T155413Z
UID:10012807-1782864000-1785542399@www.secarec.com
SUMMARY:Pool Rental - 4-7pm - July
DESCRIPTION:Regular Party – 3hrs\n\n1-20 Guests — $160\n21-40 Guests — $200\n41-60 Guests — $325\nOver 60 Guests — $325 + $5/per guest over 60
URL:https://www.secarec.com/event/pool-rental-4-7pm-july/2026-07-01/
LOCATION:SECA Pool
END:VEVENT
BEGIN:VEVENT
DTSTART;VALUE=DATE:20260701
DTEND;VALUE=DATE:20260801
DTSTAMP:20260425T085553
CREATED:20251028T194931Z
LAST-MODIFIED:20260424T155406Z
UID:10012812-1782864000-1785542399@www.secarec.com
SUMMARY:Pool Rental - Private - July
DESCRIPTION:Private Party – 2hrs\n\n1-50 Guests — $375\n21-75 Guests — $470\n76-100 Guests — $550\n101-125 Guests — $650\nOver 125 Guests — $650 + $5/per guest over 125\n\nPrivate Party – 3hrs\n\n1-50 Guests — $475\n21-75 Guests — $570\n76-100 Guests — $650\n101-125 Guests — $750\nOver 125 Guests — $750 + $5/per guest over 125
URL:https://www.secarec.com/event/pool-rental-private-july/2026-07-01/
LOCATION:SECA Pool
END:VEVENT
BEGIN:VEVENT
DTSTART;VALUE=DATE:20260713
DTEND;VALUE=DATE:20260724
DTSTAMP:20260425T085553
CREATED:20260401T051122Z
LAST-MODIFIED:20260424T155350Z
UID:10012833-1783900800-1784851199@www.secarec.com
SUMMARY:Youth Swim Lessons 2026 - Session 3
DESCRIPTION:Youth Swim Lessons\nThe goal of the SECA Swim Lesson Program is to create a safe\, controlled swimming environment thought education and training. Thousands of students have been trained to swim and enjoy the water through our program. We strive to maintain discipline\, order\, and most of all\, a positive attitude with your children. Classes are taught by SECA Shark Swim Team Coaches and SECA Lifeguards. \nClasses held in two-week sessions Monday – Thursday\nFriday is a make-up day \nClass Size and Instructor Ratio\n3-5 year-olds – 6 students (3:1 ratio)\n6-12 year-old – 8 students (4:1 ratio) \n  \n\n\n\nLesson Description Ages 3-5\nLesson Description Ages 6-12\n\n\nSand Sharks (Beginner) – Develop safe pool behavior and become familiar with the water. Swimmers will work on the basic skills of kicking\, paddling\, and going underwater.\nTiger Sharks (Beginner) – Children become acquainted with the water\, use flotation devices and learn to float and paddle.\n\n\nBlue Sharks (Intermediate) – Swimmers will learn to independently move through water. Swimmers will be taught to float and paddle without a float belt.\nWhale Sharks (Intermediate) – Swimmers build upon basic skills\, float\, and tread water. Will swim front/back crawl and sidestroke. Swimmers will begin to gain confidence in deeper water.\n\n\nMako Sharks (Advanced) – Swimmers will improve stroke skills\, build endurance and learn to tread water. Swimmers will also learn sitting and kneeling dives.\nGreat White Sharks (Advanced) – Swimmers further refine and build endurance in front crawl using rotary breathing\, backstroke\, elementary backstroke\, sidestroke\, and diving skills. Swimmers will be introduced to breaststroke\, butterfly\, and basic water rescue skills.
URL:https://www.secarec.com/event/youth-swim-lessons-2026-session-3/
LOCATION:SECA Pool
END:VEVENT
BEGIN:VEVENT
DTSTART;VALUE=DATE:20260801
DTEND;VALUE=DATE:20260901
DTSTAMP:20260425T085553
CREATED:20251027T204215Z
LAST-MODIFIED:20260424T155548Z
UID:10012742-1785542400-1788220799@www.secarec.com
SUMMARY:Pavilion 1 Rental - August
DESCRIPTION:Pavilion 1 is closest to the softball field.
URL:https://www.secarec.com/event/pavilion-1-rental-august/2026-08-01/
LOCATION:SECA Pool
END:VEVENT
BEGIN:VEVENT
DTSTART;VALUE=DATE:20260801
DTEND;VALUE=DATE:20260901
DTSTAMP:20260425T085553
CREATED:20251027T210154Z
LAST-MODIFIED:20260424T155540Z
UID:10012747-1785542400-1788220799@www.secarec.com
SUMMARY:Pavilion 2 Rental - August
DESCRIPTION:Pavilion 2 is closest to the playground and hockey rink.
URL:https://www.secarec.com/event/pavilion-2-rental-august/2026-08-01/
LOCATION:SECA Pool
END:VEVENT
BEGIN:VEVENT
DTSTART;VALUE=DATE:20260801
DTEND;VALUE=DATE:20260901
DTSTAMP:20260425T085553
CREATED:20251028T195539Z
LAST-MODIFIED:20260424T155329Z
UID:10012817-1785542400-1788220799@www.secarec.com
SUMMARY:Pool Rental - 12-3pm - August
DESCRIPTION:Private Party – 2hrs\n\n1-50 Guests — $375\n21-75 Guests — $470\n76-100 Guests — $550\n101-125 Guests — $650\nOver 125 Guests — $650 + $5/per guest over 125\n\nPrivate Party – 3hrs\n\n1-50 Guests — $475\n21-75 Guests — $570\n76-100 Guests — $650\n101-125 Guests — $750\nOver 125 Guests — $750 + $5/per guest over 125
URL:https://www.secarec.com/event/pool-rental-12-3pm-august/2026-08-01/
LOCATION:SECA Pool
END:VEVENT
BEGIN:VEVENT
DTSTART;VALUE=DATE:20260801
DTEND;VALUE=DATE:20260901
DTSTAMP:20260425T085553
CREATED:20251028T200017Z
LAST-MODIFIED:20260424T155321Z
UID:10012822-1785542400-1788220799@www.secarec.com
SUMMARY:Pool Rental - 4-7pm - August
DESCRIPTION:Regular Party – 3hrs\n\n1-20 Guests — $160\n21-40 Guests — $200\n41-60 Guests — $325\nOver 60 Guests — $325 + $5/per guest over 60
URL:https://www.secarec.com/event/pool-rental-4-7pm-august/2026-08-01/
LOCATION:SECA Pool
END:VEVENT
BEGIN:VEVENT
DTSTART;VALUE=DATE:20260801
DTEND;VALUE=DATE:20260901
DTSTAMP:20260425T085553
CREATED:20251028T200141Z
LAST-MODIFIED:20260424T155311Z
UID:10012827-1785542400-1788220799@www.secarec.com
SUMMARY:Pool Rental - Private - August
DESCRIPTION:Private Party – 2hrs\n\n1-50 Guests — $375\n21-75 Guests — $470\n76-100 Guests — $550\n101-125 Guests — $650\nOver 125 Guests — $650 + $5/per guest over 125\n\nPrivate Party – 3hrs\n\n1-50 Guests — $475\n21-75 Guests — $570\n76-100 Guests — $650\n101-125 Guests — $750\nOver 125 Guests — $750 + $5/per guest over 125
URL:https://www.secarec.com/event/pool-rental-private-august/2026-08-01/
LOCATION:SECA Pool
END:VEVENT
BEGIN:VEVENT
DTSTART;VALUE=DATE:20260901
DTEND;VALUE=DATE:20260908
DTSTAMP:20260425T085553
CREATED:20251029T195310Z
LAST-MODIFIED:20260424T155255Z
UID:10013049-1788220800-1788825599@www.secarec.com
SUMMARY:Pool Rental - 12-3pm - September
DESCRIPTION:The last day for pool rentals is Labor Day. \nRegular Party – 3hrs\n\n1-20 Guests — $160\n21-40 Guests — $200\n41-60 Guests — $325\nOver 60 Guests — $325 + $5/per guest over 60
URL:https://www.secarec.com/event/pool-rental-12-3pm-september/2026-09-01/
LOCATION:SECA Pool
END:VEVENT
BEGIN:VEVENT
DTSTART;VALUE=DATE:20260901
DTEND;VALUE=DATE:20260908
DTSTAMP:20260425T085553
CREATED:20251029T200152Z
LAST-MODIFIED:20260424T155245Z
UID:10013064-1788220800-1788825599@www.secarec.com
SUMMARY:Pool Rental - 4-7pm - September
DESCRIPTION:The last day for pool rentals is Labor Day. \nRegular Party – 3hrs\n\n1-20 Guests — $160\n21-40 Guests — $200\n41-60 Guests — $325\nOver 60 Guests — $325 + $5/per guest over 60
URL:https://www.secarec.com/event/pool-rental-4-7pm-september/2026-09-01/
LOCATION:SECA Pool
END:VEVENT
BEGIN:VEVENT
DTSTART;VALUE=DATE:20260901
DTEND;VALUE=DATE:20260908
DTSTAMP:20260425T085553
CREATED:20251029T200216Z
LAST-MODIFIED:20260424T155236Z
UID:10013069-1788220800-1788825599@www.secarec.com
SUMMARY:Pool Rental - Private - September
DESCRIPTION:The last day for pool rentals is Labor Day. \nPrivate Party – 2hrs\n\n1-50 Guests — $375\n21-75 Guests — $470\n76-100 Guests — $550\n101-125 Guests — $650\nOver 125 Guests — $650 + $5/per guest over 125\n\nPrivate Party – 3hrs\n\n1-50 Guests — $475\n21-75 Guests — $570\n76-100 Guests — $650\n101-125 Guests — $750\nOver 125 Guests — $750 + $5/per guest over 125
URL:https://www.secarec.com/event/pool-rental-private-september/2026-09-01/
LOCATION:SECA Pool
END:VEVENT
BEGIN:VEVENT
DTSTART;VALUE=DATE:20260901
DTEND;VALUE=DATE:20261001
DTSTAMP:20260425T085553
CREATED:20251029T175402Z
LAST-MODIFIED:20260424T155521Z
UID:10012911-1788220800-1790812799@www.secarec.com
SUMMARY:Pavilion 1 Rental - September
DESCRIPTION:Pavilion 1 is closest to the softball field.
URL:https://www.secarec.com/event/pavilion-1-rental-september/2026-09-01/
LOCATION:SECA Pool
END:VEVENT
END:VCALENDAR